Workbook

Sheet 普通会計の状況
DH1: 令和6年度 | DP1: 岐阜県御嵩町
B2: (1) 普通会計の状況（市町村）
B3: 歳入の状況（単位 千円・％） | AP3: 地方税の状況（単位 千円・％） | CD3: 歳出の状況（単位 千円・％）
B4: 区分 | R4: 決算額 | Z4: 構成比 | AD4: 経常一般財源等 | AL4: 構成比 | AP4: 区分 | BG4: 収入済額 | BO4: 構成比 | BS4: 超過課税分 | CD4: 目的別歳出の状況（単位 千円・％）
B5: 地方税 | R5: 2365416 | Z5: 21.6 | AD5: 2365416 | AL5: 44.6 | AP5: 普通税 | BG5: 2365197 | BO5: 100 | BS5: - | CD5: 区分 | CR5: 決算額 (A) | CZ5: 構成比 | DD5: (A)のうち普通建設事業費 | DQ5: (A)のうち充当一般財源等
B6: 地方譲与税 | R6: 89221 | Z6: 0.8 | AD6: 89221 | AL6: 1.7 | AP6: 法定普通税 | BG6: 2365197 | BO6: 100 | BS6: - | CD6: 議会費 | CR6: 85233 | CZ6: 0.8 | DD6: - | DQ6: 85233
B7: 利子割交付金 | R7: 967 | Z7: 0 | AD7: 967 | AL7: 0 | AP7: 市町村民税 | BG7: 916789 | BO7: 38.8 | BS7: - | CD7: 総務費 | CR7: 1317851 | CZ7: 12.3 | DD7: 26014 | DQ7: 1072050
B8: 配当割交付金 | R8: 20609 | Z8: 0.2 | AD8: 20609 | AL8: 0.4 | AP8: 個人均等割 | BG8: 28870 | BO8: 1.2 | BS8: - | CD8: 民生費 | CR8: 2734545 | CZ8: 25.6 | DD8: 5413 | DQ8: 1672867
B9: 株式等譲渡所得割交付金 | R9: 26442 | Z9: 0.2 | AD9: 26442 | AL9: 0.5 | AP9: 所得割 | BG9: 755028 | BO9: 31.9 | BS9: - | CD9: 衛生費 | CR9: 500534 | CZ9: 4.7 | DD9: 1016 | DQ9: 455600
B10: 分離課税所得割交付金 | R10: - | Z10: - | AD10: - | AL10: - | AP10: 法人均等割 | BG10: 51898 | BO10: 2.2 | BS10: - | CD10: 労働費 | CR10: 306 | CZ10: 0 | DD10: - | DQ10: 306
B11: 地方消費税交付金 | R11: 458492 | Z11: 4.2 | AD11: 458492 | AL11: 8.6 | AP11: 法人税割 | BG11: 80993 | BO11: 3.4 | BS11: - | CD11: 農林水産業費 | CR11: 217108 | CZ11: 2 | DD11: 80532 | DQ11: 127761
B12: ゴルフ場利用税交付金 | R12: 91023 | Z12: 0.8 | AD12: 91023 | AL12: 1.7 | AP12: 固定資産税 | BG12: 1255230 | BO12: 53.1 | BS12: - | CD12: 商工費 | CR12: 42727 | CZ12: 0.4 | DD12: - | DQ12: 34240
B13: 自動車取得税交付金 | R13: 805 | Z13: 0 | AD13: 805 | AL13: 0 | AP13: うち純固定資産税 | BG13: 1253994 | BO13: 53 | BS13: - | CD13: 土木費 | CR13: 872460 | CZ13: 8.2 | DD13: 237149 | DQ13: 677746
B14: 軽油引取税交付金 | R14: - | Z14: - | AD14: - | AL14: - | AP14: 軽自動車税 | BG14: 70531 | BO14: 3 | BS14: - | CD14: 消防費 | CR14: 2668878 | CZ14: 25 | DD14: 2376244 | DQ14: 364284
B15: 自動車税環境性能割交付金 | R15: 13666 | Z15: 0.1 | AD15: 13666 | AL15: 0.3 | AP15: 市町村たばこ税 | BG15: 122647 | BO15: 5.2 | BS15: - | CD15: 教育費 | CR15: 1725025 | CZ15: 16.1 | DD15: 824496 | DQ15: 792547
B16: 法人事業税交付金 | R16: 41406 | Z16: 0.4 | AD16: 41406 | AL16: 0.8 | AP16: 鉱産税 | BG16: - | BO16: - | BS16: - | CD16: 災害復旧費 | CR16: - | CZ16: - | DD16: - | DQ16: -
B17: 地方特例交付金等 | R17: 100559 | Z17: 0.9 | AD17: 100559 | AL17: 1.9 | AP17: 特別土地保有税 | BG17: - | BO17: - | BS17: - | CD17: 公債費 | CR17: 520487 | CZ17: 4.9 | DD17: - | DQ17: 520487
B18: 住宅借入金等特別税額控除減収補塡特例交付金 | R18: 20240 | Z18: 0.2 | AD18: 20240 | AL18: 0.4 | AP18: 法定外普通税 | BG18: - | BO18: - | BS18: - | CD18: 諸支出金 | CR18: - | CZ18: - | DD18: - | DQ18: -
B19: 定額減税減収補塡特例交付金 | R19: 79132 | Z19: 0.7 | AD19: 79132 | AL19: 1.5 | AP19: 目的税 | BG19: 219 | BO19: 0 | BS19: - | CD19: 前年度繰上充用金 | CR19: - | CZ19: - | DD19: - | DQ19: -
B20: 新型コロナウイルス感染症対策地方税減収補塡特別交付金 | R20: 1187 | Z20: 0 | AD20: 1187 | AL20: 0 | AP20: 法定目的税 | BG20: 219 | BO20: 0 | BS20: - | CD20: 歳出合計 | CR20: 10685154 | CZ20: 100 | DD20: 3550864 | DQ20: 5803121
B21: 地方交付税 | R21: 2067145 | Z21: 18.9 | AD21: 1891483 | AL21: 35.7 | AP21: 入湯税 | BG21: 219 | BO21: 0 | BS21: -
B22: 普通交付税 | R22: 1891483 | Z22: 17.3 | AD22: 1891483 | AL22: 35.7 | AP22: 事業所税 | BG22: - | BO22: - | BS22: - | CD22: 性質別歳出の状況（単位 千円・％）
B23: 特別交付税 | R23: 175662 | Z23: 1.6 | AD23: - | AL23: - | AP23: 都市計画税 | BG23: - | BO23: - | BS23: - | CD23: 区分 | CR23: 決算額 | CZ23: 構成比 | DD23: 充当一般財源等 | DL23: 経常経費充当一般財源等 | DW23: 経常収支比率
B24: 震災復興特別交付税 | R24: - | Z24: - | AD24: - | AL24: - | AP24: 水利地益税等 | BG24: - | BO24: - | BS24: - | CD24: 義務的経費計 | CR24: 3479700 | CZ24: 32.6 | DD24: 2513454 | DL24: 2275338 | DW24: 42.8
B25: (一般財源計) | R25: 5275751 | Z25: 48.2 | AD25: 5100089 | AL25: 96.2 | AP25: 法定外目的税 | BG25: - | BO25: - | BS25: - | CD25: 人件費 | CR25: 1415833 | CZ25: 13.3 | DD25: 1293257 | DL25: 1280325 | DW25: 24.1
B26: 交通安全対策特別交付金 | R26: 843 | Z26: 0 | AD26: 843 | AL26: 0 | AP26: 旧法による税 | BG26: - | BO26: - | BS26: - | CD26: うち職員給 | CR26: 748885 | CZ26: 7 | DD26: 685411 | DL26: - | DW26: -
B27: 分担金・負担金 | R27: 36705 | Z27: 0.3 | AD27: - | AL27: - | AP27: 合計 | BG27: 2365416 | BO27: 100 | BS27: - | CD27: 扶助費 | CR27: 1543380 | CZ27: 14.4 | DD27: 699710 | DL27: 474526 | DW27: 8.9
B28: 使用料 | R28: 41275 | Z28: 0.4 | AD28: 12567 | AL28: 0.2 | CD28: 公債費 | CR28: 520487 | CZ28: 4.9 | DD28: 520487 | DL28: 520487 | DW28: 9.8
B29: 手数料 | R29: 38289 | Z29: 0.3 | AD29: - | AL29: - | CD29: 内訳 | CF29: 元利償還金 | CR29: 520401 | CZ29: 4.9 | DD29: 520401 | DL29: 520401 | DW29: 9.8
B30: 国庫支出金 | R30: 1135194 | Z30: 10.4 | AD30: - | AL30: - | AP30: 区分 | BG30: 令和6年度 | BR30: 令和5年度 | CF30: うち元金 | CR30: 505961 | CZ30: 4.7 | DD30: 505961 | DL30: 505961 | DW30: 9.5
B31: 国有提供交付金(特別区財調交付金) | R31: - | Z31: - | AD31: - | AL31: - | AP31: 徴収率 (％) | AT31: 現年 | AX31: 合計 | BG31: 99.3 | BM31: 97.5 | BR31: 99.4 | BX31: 97.8 | CF31: うち利子 | CR31: 14440 | CZ31: 0.1 | DD31: 14440 | DL31: 14440 | DW31: 0.3
B32: 都道府県支出金 | R32: 536921 | Z32: 4.9 | AD32: - | AL32: - | AU32: ・計 | AX32: 市町村民税 | BG32: 98.9 | BM32: 97.8 | BR32: 99.1 | BX32: 98.4 | CF32: 一時借入金利子 | CR32: 86 | CZ32: 0 | DD32: 86 | DL32: 86 | DW32: 0
B33: 財産収入 | R33: 207145 | Z33: 1.9 | AD33: 187476 | AL33: 3.5 | AX33: 純固定資産税 | BG33: 99.6 | BM33: 96.9 | BR33: 99.6 | BX33: 97 | CD33: その他の経費 | CR33: 3654590 | CZ33: 34.2 | DD33: 3065023 | DL33: 2226824 | DW33: 41.8
B34: 寄附金 | R34: 62407 | Z34: 0.6 | AD34: - | AL34: - | CD34: 物件費 | CR34: 1225838 | CZ34: 11.5 | DD34: 937799 | DL34: 706862 | DW34: 13.3
B35: 繰入金 | R35: 77882 | Z35: 0.7 | AD35: - | AL35: - | AQ35: 公営事業等への繰出 | BG35: 国民健康保険事業会計の状況 | CD35: 維持補修費 | CR35: 57597 | CZ35: 0.5 | DD35: 50035 | DL35: 46507 | DW35: 0.9
B36: 繰越金 | R36: 210895 | Z36: 1.9 | AD36: - | AL36: - | AQ36: 合計 | AZ36: 1215157 | BG36: 実質収支 | BV36: 39763 | CD36: 補助費等 | CR36: 1187127 | CZ36: 11.1 | DD36: 1106541 | DL36: 777784 | DW36: 14.6
B37: 諸収入 | R37: 2526307 | Z37: 23.1 | AD37: 44 | AL37: 0 | AQ37: 下水道 | AZ37: 450146 | BG37: 再差引収支 | BV37: 32087 | CD37: うち一部事務組合負担金 | CR37: 481640 | CZ37: 4.5 | DD37: 481640 | DL37: 380733 | DW37: 7.2
B38: 地方債 | R38: 790870 | Z38: 7.2 | AD38: - | AL38: - | AQ38: 上水道 | AZ38: 27096 | BG38: 加入世帯数(世帯) | BV38: 2249 | CD38: 繰出金 | CR38: 737915 | CZ38: 6.9 | DD38: 613174 | DL38: 603414 | DW38: 11.3
B39: うち減収補塡債(特例分) | R39: - | Z39: - | AD39: - | AL39: - | AQ39: 工業用水道 | AZ39: - | BG39: 被保険者数(人) | BV39: 3361 | CD39: 積立金 | CR39: 305072 | CZ39: 2.9 | DD39: 224433 | DL39: - | DW39: -
B40: うち臨時財政対策債 | R40: 21270 | Z40: 0.2 | AD40: - | AL40: - | AQ40: 交通 | AZ40: - | BG40: 被保険者 1人当り | BM40: 保険税(料)収入額 | BV40: 109 | CD40: 投資・出資金・貸付金 | CR40: 141041 | CZ40: 1.3 | DD40: 133041 | DL40: 92257 | DW40: 1.7
...

Sheet 総括表
B1: 令和6年度 財政状況資料集
B2: 総括表（市町村）
B3: 都道府県名 | L3: 岐阜県 | W3: 市町村類型 | AC3: Ⅳ－１ | AM3: 指定団体等の指定状況 | AY3: 区分 | BN3: 令和6年度(千円) | BV3: 令和5年度(千円) | CD3: 区分 | CT3: 令和6年度(千円･％) | DB3: 令和5年度(千円･％)
AY4: 歳入総額 | BN4: 10940484 | BV4: 11582091 | CD4: 実質収支比率 | CT4: 4.4 | DB4: 3.9
AM5: 財政健全化等 | AU5: × | AY5: 歳出総額 | BN5: 10685154 | BV5: 11371196 | CD5: 経常収支比率 | CT5: 84.6 | DB5: 84.8
B6: 市町村名 | L6: 御嵩町 | W6: 地方交付税種地 | AC6: 2-3 | AM6: 財源超過 | AU6: × | AY6: 歳入歳出差引 | BN6: 255330 | BV6: 210895 | CD6: (※1) | CT6: 84.9 | DB6: 85.5
AM7: 首都 | AU7: × | AY7: 翌年度に繰越すべき財源 | BN7: 35040 | BV7: 21369 | CD7: 標準財政規模 | CT7: 5056316 | DB7: 4902508
AM8: 近畿 | AU8: × | AY8: 実質収支 | BN8: 220290 | BV8: 189526 | CD8: 財政力指数 | CT8: 0.58 | DB8: 0.59
B9: 人口 | L9: 令和2年国調(人) | R9: 17516 | W9: 産業構造 (※5) | AM9: 中部 | AU9: ○ | AY9: 単年度収支 | BN9: 30764 | BV9: -102567 | CD9: 公債費負担比率 | CT9: 8.6 | DB9: 8.7
L10: 平成27年国調(人) | R10: 18111 | AM10: 過疎 | AU10: × | AY10: 積立金 | BN10: 192065 | BV10: 182229 | CD10: 健全化判断比率
L11: 増減率 (％) | R11: -3.3 | AM11: 山振 | AU11: × | AY11: 繰上償還金 | BN11: 0 | BV11: 0 | CD11: 実質赤字比率 | CT11: - | DB11: -
B12: 住民基本台帳人口 (※7) | L12: 令07.01.01(人) | R12: 17523 | W12: 区分 | AC12: 令和2年国調 | AH12: 平成27年国調 | AM12: 低開発 | AU12: × | AY12: 積立金取崩し額 | BN12: 0 | BV12: 0 | CD12: 連結実質赤字比率 | CT12: - | DB12: -
M13: うち日本人(人) | R13: 16708 | W13: 第1次 | AC13: 177 | AH13: 205 | AM13: 指数表選定 | AU13: ○ | AY13: 実質単年度収支 | BN13: 222829 | BV13: 79662 | CD13: 実質公債費比率 | CT13: 6.4 | DB13: 6.5
L14: 令06.01.01(人) | R14: 17682 | AC14: 2 | AH14: 2.3 | CD14: 将来負担比率 | CT14: - | DB14: -
M15: うち日本人(人) | R15: 16972 | W15: 第2次 | AC15: 3542 | AH15: 3628 | AY15: 基準財政収入額 | BN15: 2490756 | BV15: 2464139 | CD15: 資金不足比率 (※4)
L16: 増減率 (％) | R16: -0.9 | AC16: 40.6 | AH16: 40.1 | AY16: 基準財政需要額 | BN16: 4382239 | BV16: 4219771
M17: うち日本人(％) | R17: -1.6 | W17: 第3次 | AC17: 4996 | AH17: 5209 | AY17: 標準税収入額等 | BN17: 3143563 | BV17: 3102919
B18: 面積 (k㎡) | L18: 56.69 | AC18: 57.3 | AH18: 57.6 | AY18: 経常経費充当一般財源等 | BN18: 4502162 | BV18: 4373026
B19: 人口密度 (人/k㎡) | L19: 309 | AY19: 歳入一般財源等 | BN19: 6058451 | BV19: 5914523
B20: 世帯数 (世帯) | L20: 6768
B21: 職員の状況 (※8)
B22: 特別職等 | E22: 区分 | L22: 定数 | Q22: 1人あたり平均 給料月額(百円) | W22: 一般職員等(※6) | Z22: 区分 | AH22: 職員数 (人) | AM22: 給料月額 (百円) | AS22: 1人あたり平均 給料月額(百円) | AY22: 地方債現在高 | BN22: 5350136 | BV22: 5065227
AY23: うち公的資金 | BN23: 4806853 | BV23: 4454055
E24: 市区町村長 | L24: 1 | Q24: 7080 | Z24: 一般職員 | AH24: 139 | AM24: 416166 | AS24: 2994 | AY24: 地方債現在高（臨時財政対策債除き） | BN24: 2545380 | BV24: 1991327
E25: 副市区町村長 | L25: 1 | Q25: 5940 | Z25: うち消防職員 | AH25: - | AM25: - | AS25: - | AY25: 債務負担行為額（支出予定額） | BN25: 2156252 | BV25: 2363430
E26: 教育長 | L26: 1 | Q26: 5520 | Z26: うち技能労務職員 | AH26: - | AM26: - | AS26: - | AY26: 収益事業収入 | BN26: - | BV26: -
E27: 議会議長 | L27: 1 | Q27: 3000 | Z27: 教育公務員 | AH27: - | AM27: - | AS27: - | AY27: 土地開発基金現在高 | BN27: - | BV27: -
E28: 議会副議長 | L28: 1 | Q28: 2450 | Z28: 臨時職員 | AH28: - | AM28: - | AS28: - | AY28: 積立金 現在高 | BC28: 財政調整基金 | BN28: 2387430 | BV28: 2195279
E29: 議会議員 | L29: 10 | Q29: 2200 | Z29: 合計 | AH29: 139 | AM29: 416166 | AS29: 2994 | BC29: 減債基金 | BN29: 659068 | BV29: 625514
W30: ラスパイレス指数 | AH30: 96.6 | BC30: その他特定目的基金 | BN30: 3480202 | BV30: 3472001
C32: 一般会計等の一覧 | U32: 事業会計の一覧 | AM32: 公営企業（法適）の一覧 | BE32: 公営企業（法非適）の一覧 | BW32: 関係する一部事務組合等一覧 | CO32: 地方公社・第三セクター等一覧
C33: 項番 | E33: 会計名 | U33: 項番 | W33: 会計名 | AM33: 項番 | AO33: 会計名 | BE33: 項番 | BG33: 会計名 | BW33: 項番 | BY33: 組合等名 | CO33: 項番 | CQ33: 団体名 | DG33: (※3)
C34: =IF(E34="","",1) -> 1 | E34: =IF('各会計、関係団体の財政状況及び健全化判断比率'!B7="","",'各会計、関係団体の財政状況及び健全化判断比率'!B7) -> 一般会計 | U34: =IF(W34="","",MAX(C34:D43)+1) -> 2 | W34: =IF('各会計、関係団体の財政状況及び健全化判断比率'!B28="","",'各会計、関係団体の財政状況及び健全化判断比率'!B28) -> 国民健康保険特別会計 | AM34: =IF(AO34="","",MAX(C34:D43,U34:V43)+1) -> 6 | AO34: =IF('各会計、関係団体の財政状況及び健全化判断比率'!B32="","",'各会計、関係団体の財政状況及び健全化判断比率'!B32) -> 水道事業会計 | BE34: =IF(BG34="","",MAX(C34:D43,U34:V43,AM34:AN43)+1) | BW34: =IF(BY34="","",MAX(C34:D43,U34:V43,AM34:AN43,BE34:BF43)+1) -> 8 | BY34: =IF('各会計、関係団体の財政状況及び健全化判断比率'!B68="","",'各会計、関係団体の財政状況及び健全化判断比率'!B68) -> 可茂衛生施設利用組合 | CO34: =IF(CQ34="","",MAX(C34:D43,U34:V43,AM34:AN43,BE34:BF43,BW34:BX43)+1) -> 17 | CQ34: =IF('各会計、関係団体の財政状況及び健全化判断比率'!BS7="","",'各会計、関係団体の財政状況及び健全化判断比率'!BS7) -> 御嵩町土地開発公社 | DG34: =IF('各会計、関係団体の財政状況及び健全化判断比率'!BR7="","",'各会計、関係団体の財政状況及び健全化判断比率'!BR7) -> 〇
C35: =IF(E35="","",C34+1) | E35: =IF('各会計、関係団体の財政状況及び健全化判断比率'!B8="","",'各会計、関係団体の財政状況及び健全化判断比率'!B8) | U35: =IF(W35="","",U34+1) -> 3 | W35: =IF('各会計、関係団体の財政状況及び健全化判断比率'!B29="","",'各会計、関係団体の財政状況及び健全化判断比率'!B29) -> 後期高齢者医療特別会計 | AM35: =IF(AO35="","",AM34+1) -> 7 | AO35: =IF('各会計、関係団体の財政状況及び健全化判断比率'!B33="","",'各会計、関係団体の財政状況及び健全化判断比率'!B33) -> 下水道事業会計 | BE35: =IF(BG35="","",BE34+1) | BW35: =IF(BY35="","",BW34+1) -> 9 | BY35: =IF('各会計、関係団体の財政状況及び健全化判断比率'!B69="","",'各会計、関係団体の財政状況及び健全化判断比率'!B69) -> 可児川防災等ため池組合 | CO35: =IF(CQ35="","",CO34+1) | CQ35: =IF('各会計、関係団体の財政状況及び健全化判断比率'!BS8="","",'各会計、関係団体の財政状況及び健全化判断比率'!BS8) | DG35: =IF('各会計、関係団体の財政状況及び健全化判断比率'!BR8="","",'各会計、関係団体の財政状況及び健全化判断比率'!BR8)
C36: =IF(E36="","",C35+1) | E36: =IF('各会計、関係団体の財政状況及び健全化判断比率'!B9="","",'各会計、関係団体の財政状況及び健全化判断比率'!B9) | U36: =IF(W36="","",U35+1) -> 4 | W36: =IF('各会計、関係団体の財政状況及び健全化判断比率'!B30="","",'各会計、関係団体の財政状況及び健全化判断比率'!B30) -> 介護保険特別会計（保険事業勘定） | AM36: =IF(AO36="","",AM35+1) | BE36: =IF(BG36="","",BE35+1) | BW36: =IF(BY36="","",BW35+1) -> 10 | BY36: =IF('各会計、関係団体の財政状況及び健全化判断比率'!B70="","",'各会計、関係団体の財政状況及び健全化判断比率'!B70) -> 可児市・御嵩町中学校組合 | CO36: =IF(CQ36="","",CO35+1) | CQ36: =IF('各会計、関係団体の財政状況及び健全化判断比率'!BS9="","",'各会計、関係団体の財政状況及び健全化判断比率'!BS9) | DG36: =IF('各会計、関係団体の財政状況及び健全化判断比率'!BR9="","",'各会計、関係団体の財政状況及び健全化判断比率'!BR9)
C37: =IF(E37="","",C36+1) | E37: =IF('各会計、関係団体の財政状況及び健全化判断比率'!B10="","",'各会計、関係団体の財政状況及び健全化判断比率'!B10) | U37: =IF(W37="","",U36+1) -> 5 | W37: =IF('各会計、関係団体の財政状況及び健全化判断比率'!B31="","",'各会計、関係団体の財政状況及び健全化判断比率'!B31) -> 介護保険特別会計（介護サービス事業勘定） | AM37: =IF(AO37="","",AM36+1) | BE37: =IF(BG37="","",BE36+1) | BW37: =IF(BY37="","",BW36+1) -> 11 | BY37: =IF('各会計、関係団体の財政状況及び健全化判断比率'!B71="","",'各会計、関係団体の財政状況及び健全化判断比率'!B71) -> 岐阜県市町村会館組合 | CO37: =IF(CQ37="","",CO36+1) | CQ37: =IF('各会計、関係団体の財政状況及び健全化判断比率'!BS10="","",'各会計、関係団体の財政状況及び健全化判断比率'!BS10) | DG37: =IF('各会計、関係団体の財政状況及び健全化判断比率'!BR10="","",'各会計、関係団体の財政状況及び健全化判断比率'!BR10)
C38: =IF(E38="","",C37+1) | E38: =IF('各会計、関係団体の財政状況及び健全化判断比率'!B11="","",'各会計、関係団体の財政状況及び健全化判断比率'!B11) | U38: =IF(W38="","",U37+1) | AM38: =IF(AO38="","",AM37+1) | BE38: =IF(BG38="","",BE37+1) | BW38: =IF(BY38="","",BW37+1) -> 12 | BY38: =IF('各会計、関係団体の財政状況及び健全化判断比率'!B72="","",'各会計、関係団体の財政状況及び健全化判断比率'!B72) -> 岐阜県市町村職員退職手当組合 | CO38: =IF(CQ38="","",CO37+1) | CQ38: =IF('各会計、関係団体の財政状況及び健全化判断比率'!BS11="","",'各会計、関係団体の財政状況及び健全化判断比率'!BS11) | DG38: =IF('各会計、関係団体の財政状況及び健全化判断比率'!BR11="","",'各会計、関係団体の財政状況及び健全化判断比率'!BR11)
C39: =IF(E39="","",C38+1) | E39: =IF('各会計、関係団体の財政状況及び健全化判断比率'!B12="","",'各会計、関係団体の財政状況及び健全化判断比率'!B12) | U39: =IF(W39="","",U38+1) | AM39: =IF(AO39="","",AM38+1) | BE39: =IF(BG39="","",BE38+1) | BW39: =IF(BY39="","",BW38+1) -> 13 | BY39: =IF('各会計、関係団体の財政状況及び健全化判断比率'!B73="","",'各会計、関係団体の財政状況及び健全化判断比率'!B73) -> 可茂消防事務組合 | CO39: =IF(CQ39="","",CO38+1) | CQ39: =IF('各会計、関係団体の財政状況及び健全化判断比率'!BS12="","",'各会計、関係団体の財政状況及び健全化判断比率'!BS12) | DG39: =IF('各会計、関係団体の財政状況及び健全化判断比率'!BR12="","",'各会計、関係団体の財政状況及び健全化判断比率'!BR12)
C40: =IF(E40="","",C39+1) | E40: =IF('各会計、関係団体の財政状況及び健全化判断比率'!B13="","",'各会計、関係団体の財政状況及び健全化判断比率'!B13) | U40: =IF(W40="","",U39+1) | AM40: =IF(AO40="","",AM39+1) | BE40: =IF(BG40="","",BE39+1) | BW40: =IF(BY40="","",BW39+1) -> 14 | BY40: =IF('各会計、関係団体の財政状況及び健全化判断比率'!B74="","",'各会計、関係団体の財政状況及び健全化判断比率'!B74) -> 後期高齢者医療連合(一般会計分) | CO40: =IF(CQ40="","",CO39+1) | CQ40: =IF('各会計、関係団体の財政状況及び健全化判断比率'!BS13="","",'各会計、関係団体の財政状況及び健全化判断比率'!BS13) | DG40: =IF('各会計、関係団体の財政状況及び健全化判断比率'!BR13="","",'各会計、関係団体の財政状況及び健全化判断比率'!BR13)
C41: =IF(E41="","",C40+1) | E41: =IF('各会計、関係団体の財政状況及び健全化判断比率'!B14="","",'各会計、関係団体の財政状況及び健全化判断比率'!B14) | U41: =IF(W41="","",U40+1) | AM41: =IF(AO41="","",AM40+1) | BE41: =IF(BG41="","",BE40+1) | BW41: =IF(BY41="","",BW40+1) -> 15 | BY41: =IF('各会計、関係団体の財政状況及び健全化判断比率'!B75="","",'各会計、関係団体の財政状況及び健全化判断比率'!B75) -> 後期高齢者医療連合(特別会計分) | CO41: =IF(CQ41="","",CO40+1) | CQ41: =IF('各会計、関係団体の財政状況及び健全化判断比率'!BS14="","",'各会計、関係団体の財政状況及び健全化判断比率'!BS14) | DG41: =IF('各会計、関係団体の財政状況及び健全化判断比率'!BR14="","",'各会計、関係団体の財政状況及び健全化判断比率'!BR14)
...

Sheet 各会計、関係団体の財政状況及び健全化判断比率
A2: (2)各会計、関係団体の財政状況及び健全化判断比率（市町村） | DJ2: 令和6年度 | DQ2: 岐阜県御嵩町
A4: 一般会計等の財政状況（単位：百万円） | BQ4: 地方公社・第三セクター等の経営状況及び地方公共団体の財政的支援の状況（単位：百万円）
A5: 会計名 | Q5: 歳入 | V5: 歳出 | AA5: 形式収支 | AF5: 実質収支 | AK5: 他会計等 からの 繰入金 | AP5: 地方債 現在高 | AU5: 備考 | BQ5: 地方公社・第三セクター等名 | CH5: 経常損益 | CM5: 純資産又は 正味財産 | CR5: 当該団体 からの 出資金 | CW5: 当該団体 からの 補助金 | DB5: 当該団体 からの 貸付金 | DG5: 当該団体からの債務保証に係る債務残高 | DL5: 当該団体からの損失補償に係る債務残高 | DQ5: 一般会計等 負担見込額 | DV5: 備考
A7: 1 | B7: 一般会計 | Q7: 10940 | V7: 10685 | AA7: 255 | AF7: 220 | AK7: 78 | AP7: 5350 | AU7: 基金から71百万円繰入 | BQ7: 1 | BR7: 〇 | BS7: 御嵩町土地開発公社 | CH7: 0 | CM7: 18 | CR7: 5 | CW7: - | DB7: - | DG7: - | DL7: - | DQ7: -
A8: 2 | BQ8: 2
A9: 3 | BQ9: 3
A10: 4 | BQ10: 4
A11: 5 | BQ11: 5
A12: 6 | BQ12: 6
A13: 7 | BQ13: 7
A14: 8 | BQ14: 8
A15: 9 | BQ15: 9
A16: 10 | BQ16: 10
A17: 11 | BQ17: 11
A18: 12 | BQ18: 12
A19: 13 | BQ19: 13
... A21: 15 | BQ21: 15
A22: 16 | AZ22: 実質赤字額 | BQ22: 16
A23: 計 | B23: 一般会計等（純計） | Q23: =SUM(Q7:U22) -> 10940 | V23: =SUM(V7:Z22) -> 10685 | AA23: =SUM(AA7:AE22) -> 255 | AF23: 220 | AP23: =SUM(AP7:AT22) -> 5350 | AZ23: - | BQ23: 17
A24: ※一般会計等（純計）は、各会計の相互間の繰入・繰出等の重複を控除したものであり、各会計の合計と一致しない場合がある。 | BQ24: 18
A25: 公営企業会計等の財政状況（単位：百万円） | BQ25: 19
A26: 会計名 | Q26: 総収益 （歳入） | V26: 総費用 （歳出） | AA26: 純損益 （形式収支） | AF26: 資金剰余額 /不足額 （実質収支） | AK26: 他会計等 からの 繰入金 | AP26: 企業債 （地方債） 現在高 | AU26: 左のうち 一般会計等 繰入見込額 | AZ26: 資金不足 比率 | BE26: 備考 | BQ26: 20
BQ27: 21
A28: 1 | B28: 国民健康保険特別会計 | Q28: 1993 | V28: 1953 | AA28: 40 | AF28: 40 | AK28: 131 | AP28: - | AU28: - | AZ28: - | BQ28: 22
A29: 2 | B29: 後期高齢者医療特別会計 | Q29: 330 | V29: 320 | AA29: 10 | AF29: 10 | AK29: 77 | AP29: - | AU29: - | AZ29: - | BQ29: 23
A30: 3 | B30: 介護保険特別会計（保険事業勘定） | Q30: 2076 | V30: 1986 | AA30: 90 | AF30: 90 | AK30: 300 | AP30: - | AU30: - | AZ30: - | BQ30: 24
A31: 4 | B31: 介護保険特別会計（介護サービス事業勘定） | Q31: 1 | V31: 1 | AA31: - | AF31: - | AK31: - | AP31: - | AU31: - | AZ31: - | BQ31: 25
A32: 5 | B32: 水道事業会計 | Q32: 584 | V32: 553 | AA32: 32 | AF32: 515 | AK32: 27 | AP32: 83 | AU32: 0 | AZ32: - | BE32: 法適用企業 | BQ32: 26
A33: 6 | B33: 下水道事業会計 | Q33: 600 | V33: 542 | AA33: 58 | AF33: 169 | AK33: 450 | AP33: 2836 | AU33: 2042 | AZ33: - | BE33: 法適用企業 | BQ33: 27
A34: 7 | BQ34: 28
A35: 8 | BQ35: 29
A36: 9 | BQ36: 30
A37: 10 | BQ37: 31
A38: 11 | BQ38: 32
A39: 12 | BQ39: 33
A40: 13 | BQ40: 34
A41: 14 | BQ41: 35
A42: 15 | BQ42: 36
A43: 16 | BQ43: 37
A44: 17 | BQ44: 38
...

Sheet 財政比較分析表

Sheet 経常経費分析表（経常収支比率の分析）

Sheet 経常経費分析表（人件費・公債費・普通建設事業費の分析）
A5: 人件費及び人件費に準ずる費用の分析
AK6: 人件費及び人件費に準ずる費用
AO7: 当該団体決算額 （千円） | AQ7: 人口1人当たり決算額
AP8: 当該団体（円） | AQ8: 類似団体平均（円） | AR8: 対比（％）
AK9: 人件費 | AO9: 1415833 | AP9: 80799 | AQ9: 110873 | AR9: -27.1
AK10: 一部事務組合負担金（補助費等） | AO10: 196930 | AP10: 11238 | AQ10: 12701 | AR10: -11.5
AK11: 公営企業（法適）等に対する繰出し（補助費等） | AO11: - | AP11: - | AQ11: 1473 | AR11: -
AK12: 公営企業（法適）等に対する繰出し（投資及び出資金・貸付金） | AO12: - | AP12: - | AQ12: 4 | AR12: -
AK13: 公営企業（法非適）等に対する繰出し（繰出金） | AO13: - | AP13: - | AQ13: 3598 | AR13: -
AK14: 事業費支弁に係る職員の人件費（投資的経費） | AO14: 37347 | AP14: 2131 | AQ14: 2175 | AR14: -2
AK15: ▲退職金 | AO15: -76284 | AP15: -4353 | AQ15: -6566 | AR15: -33.7
AK16: 合計 | AO16: 1573826 | AP16: 89815 | AQ16: 124259 | AR16: -27.7
AK19: 参考
AO20: 当該団体 | AP20: 類似団体平均 | AQ20: 対比（差引）
AK21: 人口1,000人当たり職員数（人） | AO21: 7.93 | AP21: 10.18 | AQ21: -2.25
AK22: ラスパイレス指数 | AO22: 96.6 | AP22: 96.1 | AQ22: 0.5
A26: （注）人口については、各調査対象年度の1月1日現在の住民基本台帳に登載されている人口に基づいている。
A28: 公債費及び公債費に準ずる費用の分析
AK29: 公債費及び公債費に準ずる費用（実質公債費比率の構成要素）
AO30: 当該団体決算額 （千円） | AQ30: 人口1人当たり決算額
AP31: 当該団体（円） | AQ31: 類似団体平均（円） | AR31: 対比（％）
AK32: 元利償還金の額 （繰上償還額等を除く） | AO32: 509865 | AP32: 29097 | AQ32: 56040 | AR32: -48.1
AK33: 積立不足額を考慮して算定した額 | AO33: - | AP33: - | AQ33: - | AR33: -
AK34: 満期一括償還地方債の一年当たりの元金償還金に相当するもの （年度割相当額） | AO34: - | AP34: - | AQ34: - | AR34: -
AK35: 公営企業に要する経費の財源とする地方債の償還の財源に 充てたと認められる繰入金 | AO35: 317115 | AP35: 18097 | AQ35: 19608 | AR35: -7.7
AK36: 一部事務組合等の起こした地方債に充てたと認められる 補助金又は負担金 | AO36: 64250 | AP36: 3667 | AQ36: 3090 | AR36: 18.7
AK37: 公債費に準ずる債務負担行為に係るもの | AO37: - | AP37: - | AQ37: 590 | AR37: -
AK38: 一時借入金利子 （同一団体における会計間の現金運用に係る利子は除く） | AO38: - | AP38: - | AQ38: 10 | AR38: -
AK39: ▲特定財源の額 | AO39: -239 | AP39: -14 | AQ39: -2093 | AR39: -99.3
AK40: ▲地方債に係る元利償還金及び準元利償還金に要する経費として 普通交付税の額の算定に用いる基準財政需要額に算入された額 | AO40: -617812 | AP40: -35257 | AQ40: -52347 | AR40: -32.6
AK41: 合計 | AO41: 273179 | AP41: 15590 | AQ41: 24899 | AR41: -37.4
A47: （参考） 普通建設事業費の分析
AK48: 普通建設事業費
AM49: 当該団体決算額 （千円） | AN49: 人口１人当たり決算額
AN50: 当該団体(円) | AO50: 増減率(%)(A) | AP50: 類似団体平均(円) | AQ50: 増減率(%)(B) | AR50: (A)-(B)
AK51: R02 | AM51: 4626048 | AN51: 255118 | AO51: 84.6 | AP51: 84459 | AQ51: 1.6 | AR51: 83
AL52: うち単独分 | AM52: 4352799 | AN52: 240048 | AO52: 77.8 | AP52: 47314 | AQ52: 14.3 | AR52: 63.5
AK53: R03 | AM53: 1123527 | AN53: 62529 | AO53: -75.5 | AP53: 74568 | AQ53: -11.7 | AR53: -63.8
AL54: うち単独分 | AM54: 968189 | AN54: 53884 | AO54: -77.6 | AP54: 42558 | AQ54: -10.1 | AR54: -67.5
AK55: R04 | AM55: 1984312 | AN55: 111635 | AO55: 78.5 | AP55: 73693 | AQ55: -1.2 | AR55: 79.7
...

Sheet 性質別歳出決算分析表（住民一人当たりのコスト）

Sheet 目的別歳出決算分析表（住民一人当たりのコスト）

Sheet 実質収支比率等に係る経年分析
J45: 標準財政規模比（％）
B46: 区分 | E46: 年度 | F46: R02 | G46: R03 | H46: R04 | I46: R05 | J46: R06
C47: 財政調整基金残高 | F47: 37.44 | G47: 38.24 | H47: 41.74 | I47: 44.78 | J47: 47.22
C48: 実質収支額 | F48: 5.7 | G48: 2.99 | H48: 6.06 | I48: 3.87 | J48: 4.36
C49: 実質単年度収支 | F49: 2.55 | G49: 0.3 | H49: 5.24 | I49: 1.62 | J49: 4.41

Sheet 連結実質赤字比率に係る赤字・黒字の構成分析
J32: 標準財政規模比（％）
B33: 会計 | E33: 年度 | F33: R02 | G33: R03 | H33: R04 | I33: R05 | J33: R06
C34: 水道事業会計 | F34: 9.08 | G34: 9.91 | H34: 9.81 | I34: 10.35 | J34: 10.19
C35: 一般会計 | F35: 5.7 | G35: 2.98 | H35: 6.05 | I35: 3.86 | J35: 4.35
C36: 下水道事業会計 | F36: 1.85 | G36: 2.02 | H36: 2.23 | I36: 2.52 | J36: 3.33
C37: 介護保険特別会計（保険事業勘定） | F37: 3.4 | G37: 2.56 | H37: 2.45 | I37: 3.19 | J37: 1.78
C38: 国民健康保険特別会計 | F38: 1.33 | G38: 1.41 | H38: 0.8 | I38: 1.05 | J38: 0.78
C39: 後期高齢者医療特別会計 | F39: 0.13 | G39: 0.12 | H39: 0.16 | I39: 0.19 | J39: 0.2
C40: 介護保険特別会計（介護サービス事業勘定） | F40: 0 | G40: 0.05 | H40: 0.01 | I40: 0.02 | J40: 0
C42: その他会計（赤字） | F42: - | G42: - | H42: - | I42: - | J42: -
C43: その他会計（黒字） | F43: - | G43: - | H43: - | I43: - | J43: -

Sheet 実質公債費比率（分子）の構造
O43: （百万円）
B44: 分子の構造 | J44: 年度 | K44: R02 | L44: R03 | M44: R04 | N44: R05 | O44: R06
B45: 元利償還金等(A) | E45: 元利償還金 | K45: 487 | L45: 511 | M45: 513 | N45: 516 | O45: 510
E46: 減債基金積立不足算定額※2 | K46: - | L46: - | M46: - | N46: - | O46: -
E47: 満期一括償還地方債に係る年度割相当額 | K47: - | L47: - | M47: - | N47: - | O47: -
E48: 公営企業債の元利償還金に対する繰入金 | K48: 383 | L48: 350 | M48: 341 | N48: 328 | O48: 317
E49: 組合等が起こした地方債の元利償還金に対する負担金等 | K49: 58 | L49: 68 | M49: 68 | N49: 60 | O49: 64
E50: 債務負担行為に基づく支出額 | K50: 9 | L50: 9 | M50: - | N50: - | O50: -
E51: 一時借入金の利子 | K51: - | L51: - | M51: 0 | N51: 0 | O51: -
B52: 算入公債費等(B) | E52: 算入公債費等 | K52: 637 | L52: 649 | M52: 632 | N52: 639 | O52: 617
B53: (A)－(B) | E53: 実質公債費比率の分子 | K53: 300 | L53: 289 | M53: 290 | N53: 265 | O53: 274
B54: ※ 減債基金積立不足算定額=(C)×(１－(D)/(E))
B56: （参考） | O56: （百万円）
J57: 年度 | K57: R02 | L57: R03 | M57: R04 | N57: R05 | O57: R06
B58: 減債基金 積立状況等（注） | D58: 満期一括償還地方債に係る実質償還額又は理論償還額のいずれか少ない額(C) | K58: - | L58: - | M58: - | N58: - | O58: -
D59: 前年度末減債基金残高(D) | K59: - | L59: - | M59: - | N59: - | O59: -
D60: 前年度末減債基金積立相当額(E) | K60: - | L60: - | M60: - | N60: - | O60: -
D61: （注）減債基金のうち、実質公債費比率の算定に用いる満期一括償還地方債の償還の財源に係るもののみを記入。
D62: 減債基金積立金の年度を超えた一般会計又は特別会計への貸付額は控除して記入。

Sheet 将来負担比率（分子）の構造
M39: （百万円）
B40: 分子の構造 | H40: 年度 | I40: R02 | J40: R03 | K40: R04 | L40: R05 | M40: R06
B41: 将来負担額(A) | E41: 一般会計等に係る地方債の現在高 | I41: 5553 | J41: 5575 | K41: 5384 | L41: 5065 | M41: 5350
E42: 債務負担行為に基づく支出予定額 | I42: 9 | J42: - | K42: - | L42: - | M42: -
E43: 公営企業債等繰入見込額 | I43: 3527 | J43: 2897 | K43: 2579 | L43: 2246 | M43: 2043
E44: 組合等負担等見込額 | I44: 393 | J44: 374 | K44: 355 | L44: 321 | M44: 320
E45: 退職手当負担見込額 | I45: 999 | J45: 971 | K45: 953 | L45: 998 | M45: 967
E46: 設立法人等の負債額等負担見込額 | I46: - | J46: - | K46: - | L46: - | M46: -
E47: うち、健全化法施行規則附則第三条に係る負担見込額 | I47: - | J47: - | K47: - | L47: - | M47: -
E48: 連結実質赤字額 | I48: - | J48: - | K48: - | L48: - | M48: -
E49: 組合等連結実質赤字額負担見込額 | I49: - | J49: - | K49: - | L49: - | M49: -
B50: 充当可能財源等(B) | E50: 充当可能基金 | I50: 5173 | J50: 5966 | K50: 6361 | L50: 6801 | M50: 7099
E51: 充当可能特定歳入 | I51: - | J51: - | K51: - | L51: - | M51: -
E52: 基準財政需要額算入見込額 | I52: 7202 | J52: 7358 | K52: 6746 | L52: 6608 | M52: 5984
B53: (A)－(B) | E53: 将来負担比率の分子 | I53: -1895 | J53: -3507 | K53: -3836 | L53: -4779 | M53: -4403

Sheet 基金残高に係る経年分析
H53: （百万円）
B54: 区分 | E54: 年度 | F54: R04 | G54: R05 | H54: R06
C55: 財政調整基金 | F55: 2013 | G55: 2195 | H55: 2387
C56: 減債基金 | F56: 600 | G56: 626 | H56: 659
C57: その他特定目的基金 | F57: 3274 | G57: 3472 | H57: 3480
C58: 庁舎整備基金 | F58: 2736 | G58: 2740 | H58: 2745
C59: 公共施設等総合管理基金 | F59: - | G59: 205 | H59: 205
C60: 福祉向上基金 | F60: 203 | G60: 204 | H60: 205
C61: ふるさとみたけ応援基金 | F61: 156 | G61: 149 | H61: 152
C62: 町営住宅建設基金 | F62: 110 | G62: 110 | H62: 110
C63: 基金残高合計 | F63: 5887 | G63: 6293 | H63: 6527

Sheet 公会計指標分析・財政指標組合せ分析表
B41: 将来負担比率及び有形固定資産減価償却率の組合せによる分析
AN42: 分析欄
AN43: 充当可能財源の確保により、将来負担比率はマイナス値となっている。一方で、有形固定資産減価償却率は上昇している。新庁舎の建設など充当可能財源を建設費に充てる計画であり、充当可能財源が減少することや債務の増加により将来負担比率は上昇すると考えられるが、減価償却率の上昇を抑えることができると考えられる。その他の施設についても、個別施設計画に基づいて施策を取り組む必要があるが、将来負担比率とのバランスを考慮した健全な財政運営に努めることが求められる。
AN49: ( 参考 ）
BP50: R02 | BX50: R03 | CF50: R04 | CN50: R05 | CV50: R06
AN51: 当該団体値 | BB51: 将来負担比率
BB53: 有形固定資産減価償却率 | BP53: 69.6 | BX53: 71.3 | CF53: 73.1 | CN53: 74.4 | CV53: 76
AN55: 類似団体内平均値 | BB55: 将来負担比率 | BP55: 13.5 | BX55: 0 | CF55: 0 | CN55: 0 | CV55: 0
BB57: 有形固定資産減価償却率 | BP57: 65.1 | BX57: 64.3 | CF57: 65.7 | CN57: 67 | CV57: 67.6
B63: 将来負担比率及び実質公債費比率の組合せによる分析
AN64: 分析欄
AN65: 類似団体との比較において、将来負担比率と実質公債費比率の両方で下回っており、前年より減少している。今後は個別施設計画による施策の取組により、地方債が増加し、償還額が大幅に増加することで、実質公債費比率が上昇していくことが考えられるため、これまで以上に公債費の適正化に努めていく必要がある。
AN71: ( 参考 ）
BP72: R02 | BX72: R03 | CF72: R04 | CN72: R05 | CV72: R06
AN73: 当該団体値 | BB73: 将来負担比率
BB75: 実質公債費比率 | BP75: 6.3 | BX75: 6.6 | CF75: 6.9 | CN75: 6.5 | CV75: 6.4
AN77: 類似団体内平均値 | BB77: 将来負担比率 | BP77: 13.5 | BX77: 0 | CF77: 0 | CN77: 0 | CV77: 0
BB79: 実質公債費比率 | BP79: 8.3 | BX79: 8 | CF79: 8.1 | CN79: 8.1 | CV79: 8

Sheet 施設類型別ストック情報分析表①

Sheet 施設類型別ストック情報分析表②

Sheet データシート
D2: 当該団体(円) | F2: 類似団体内平均(円)
A3: R02 | D3: 255118 | F3: 84459
D4: 240048 | F4: 47314
A5: R03 | D5: 62529 | F5: 74568
D6: 53884 | F6: 42558
A7: R04 | D7: 111635 | F7: 73693
D8: 106369 | F8: 44203
A9: R05 | D9: 245953 | F9: 79401
D10: 232219 | F10: 49347
A11: R06 | D11: 202640 | F11: 87379
D12: 175981 | F12: 55855
D13: 175575 | F13: 79900
D14: 161700 | F14: 47855
A17: 実質収支比率等に係る経年分析
B18: =実質収支比率等に係る経年分析!F$46 -> R02 | C18: =実質収支比率等に係る経年分析!G$46 -> R03 | D18: =実質収支比率等に係る経年分析!H$46 -> R04 | E18: =実質収支比率等に係る経年分析!I$46 -> R05 | F18: =実質収支比率等に係る経年分析!J$46 -> R06
A19: 実質収支額 | B19: =ROUND(VALUE(SUBSTITUTE(実質収支比率等に係る経年分析!F$48,"▲","-")),2) -> 5.7 | C19: =ROUND(VALUE(SUBSTITUTE(実質収支比率等に係る経年分析!G$48,"▲","-")),2) -> 2.99 | D19: =ROUND(VALUE(SUBSTITUTE(実質収支比率等に係る経年分析!H$48,"▲","-")),2) -> 6.06 | E19: =ROUND(VALUE(SUBSTITUTE(実質収支比率等に係る経年分析!I$48,"▲","-")),2) -> 3.87 | F19: =ROUND(VALUE(SUBSTITUTE(実質収支比率等に係る経年分析!J$48,"▲","-")),2) -> 4.36
A20: 財政調整基金残高 | B20: =ROUND(VALUE(SUBSTITUTE(実質収支比率等に係る経年分析!F$47,"▲","-")),2) -> 37.44 | C20: =ROUND(VALUE(SUBSTITUTE(実質収支比率等に係る経年分析!G$47,"▲","-")),2) -> 38.24 | D20: =ROUND(VALUE(SUBSTITUTE(実質収支比率等に係る経年分析!H$47,"▲","-")),2) -> 41.74 | E20: =ROUND(VALUE(SUBSTITUTE(実質収支比率等に係る経年分析!I$47,"▲","-")),2) -> 44.78 | F20: =ROUND(VALUE(SUBSTITUTE(実質収支比率等に係る経年分析!J$47,"▲","-")),2) -> 47.22
A21: 実質単年度収支 | B21: =IF(ISNUMBER(VALUE(SUBSTITUTE(実質収支比率等に係る経年分析!F$49,"▲","-"))),ROUND(VALUE(SUBSTITUTE(実質収支比率等に係る経年分析!F$49,"▲","-")),2),NA()) -> 2.55 | C21: =IF(ISNUMBER(VALUE(SUBSTITUTE(実質収支比率等に係る経年分析!G$49,"▲","-"))),ROUND(VALUE(SUBSTITUTE(実質収支比率等に係る経年分析!G$49,"▲","-")),2),NA()) -> 0.3 | D21: =IF(ISNUMBER(VALUE(SUBSTITUTE(実質収支比率等に係る経年分析!H$49,"▲","-"))),ROUND(VALUE(SUBSTITUTE(実質収支比率等に係る経年分析!H$49,"▲","-")),2),NA()) -> 5.24 | E21: =IF(ISNUMBER(VALUE(SUBSTITUTE(実質収支比率等に係る経年分析!I$49,"▲","-"))),ROUND(VALUE(SUBSTITUTE(実質収支比率等に係る経年分析!I$49,"▲","-")),2),NA()) -> 1.62 | F21: =IF(ISNUMBER(VALUE(SUBSTITUTE(実質収支比率等に係る経年分析!J$49,"▲","-"))),ROUND(VALUE(SUBSTITUTE(実質収支比率等に係る経年分析!J$49,"▲","-")),2),NA()) -> 4.41
A24: 連結実質赤字比率に係る赤字・黒字の構成分析
B25: =連結実質赤字比率に係る赤字・黒字の構成分析!F$33 -> R02 | D25: =連結実質赤字比率に係る赤字・黒字の構成分析!G$33 -> R03 | F25: =連結実質赤字比率に係る赤字・黒字の構成分析!H$33 -> R04 | H25: =連結実質赤字比率に係る赤字・黒字の構成分析!I$33 -> R05 | J25: =連結実質赤字比率に係る赤字・黒字の構成分析!J$33 -> R06
B26: 赤字額 | C26: 黒字額 | D26: 赤字額 | E26: 黒字額 | F26: 赤字額 | G26: 黒字額 | H26: 赤字額 | I26: 黒字額 | J26: 赤字額 | K26: 黒字額
A27: =IF(連結実質赤字比率に係る赤字・黒字の構成分析!C$43="",NA(),連結実質赤字比率に係る赤字・黒字の構成分析!C$43) -> その他会計（黒字） | B27: =IF(ROUND(VALUE(SUBSTITUTE(連結実質赤字比率に係る赤字・黒字の構成分析!F$43,"▲", "-")), 2) < 0, ABS(ROUND(VALUE(SUBSTITUTE(連結実質赤字比率に係る赤字・黒字の構成分析!F$43,"▲", "-")), 2)), NA()) -> #VALUE! | C27: =IF(ROUND(VALUE(SUBSTITUTE(連結実質赤字比率に係る赤字・黒字の構成分析!F$43,"▲", "-")), 2) >= 0, ABS(ROUND(VALUE(SUBSTITUTE(連結実質赤字比率に係る赤字・黒字の構成分析!F$43,"▲", "-")), 2)), NA()) -> #VALUE! | D27: =IF(ROUND(VALUE(SUBSTITUTE(連結実質赤字比率に係る赤字・黒字の構成分析!G$43,"▲", "-")), 2) < 0, ABS(ROUND(VALUE(SUBSTITUTE(連結実質赤字比率に係る赤字・黒字の構成分析!G$43,"▲", "-")), 2)), NA()) -> #VALUE! | E27: =IF(ROUND(VALUE(SUBSTITUTE(連結実質赤字比率に係る赤字・黒字の構成分析!G$43,"▲", "-")), 2) >= 0, ABS(ROUND(VALUE(SUBSTITUTE(連結実質赤字比率に係る赤字・黒字の構成分析!G$43,"▲", "-")), 2)), NA()) -> #VALUE! | F27: =IF(ROUND(VALUE(SUBSTITUTE(連結実質赤字比率に係る赤字・黒字の構成分析!H$43,"▲", "-")), 2) < 0, ABS(ROUND(VALUE(SUBSTITUTE(連結実質赤字比率に係る赤字・黒字の構成分析!H$43,"▲", "-")), 2)), NA()) -> #VALUE! | G27: =IF(ROUND(VALUE(SUBSTITUTE(連結実質赤字比率に係る赤字・黒字の構成分析!H$43,"▲", "-")), 2) >= 0, ABS(ROUND(VALUE(SUBSTITUTE(連結実質赤字比率に係る赤字・黒字の構成分析!H$43,"▲", "-")), 2)), NA()) -> #VALUE! | H27: =IF(ROUND(VALUE(SUBSTITUTE(連結実質赤字比率に係る赤字・黒字の構成分析!I$43,"▲", "-")), 2) < 0, ABS(ROUND(VALUE(SUBSTITUTE(連結実質赤字比率に係る赤字・黒字の構成分析!I$43,"▲", "-")), 2)), NA()) -> #VALUE! | I27: =IF(ROUND(VALUE(SUBSTITUTE(連結実質赤字比率に係る赤字・黒字の構成分析!I$43,"▲", "-")), 2) >= 0, ABS(ROUND(VALUE(SUBSTITUTE(連結実質赤字比率に係る赤字・黒字の構成分析!I$43,"▲", "-")), 2)), NA()) -> #VALUE! | J27: =IF(ROUND(VALUE(SUBSTITUTE(連結実質赤字比率に係る赤字・黒字の構成分析!J$43,"▲", "-")), 2) < 0, ABS(ROUND(VALUE(SUBSTITUTE(連結実質赤字比率に係る赤字・黒字の構成分析!J$43,"▲", "-")), 2)), NA()) -> #VALUE! | K27: =IF(ROUND(VALUE(SUBSTITUTE(連結実質赤字比率に係る赤字・黒字の構成分析!J$43,"▲", "-")), 2) >= 0, ABS(ROUND(VALUE(SUBSTITUTE(連結実質赤字比率に係る赤字・黒字の構成分析!J$43,"▲", "-")), 2)), NA()) -> #VALUE!
A28: =IF(連結実質赤字比率に係る赤字・黒字の構成分析!C$42="",NA(),連結実質赤字比率に係る赤字・黒字の構成分析!C$42) -> その他会計（赤字） | B28: =IF(ROUND(VALUE(SUBSTITUTE(連結実質赤字比率に係る赤字・黒字の構成分析!F$42,"▲", "-")), 2) < 0, ABS(ROUND(VALUE(SUBSTITUTE(連結実質赤字比率に係る赤字・黒字の構成分析!F$42,"▲", "-")), 2)), NA()) -> #VALUE! | C28: =IF(ROUND(VALUE(SUBSTITUTE(連結実質赤字比率に係る赤字・黒字の構成分析!F$42,"▲", "-")), 2) >= 0, ABS(ROUND(VALUE(SUBSTITUTE(連結実質赤字比率に係る赤字・黒字の構成分析!F$42,"▲", "-")), 2)), NA()) -> #VALUE! | D28: =IF(ROUND(VALUE(SUBSTITUTE(連結実質赤字比率に係る赤字・黒字の構成分析!G$42,"▲", "-")), 2) < 0, ABS(ROUND(VALUE(SUBSTITUTE(連結実質赤字比率に係る赤字・黒字の構成分析!G$42,"▲", "-")), 2)), NA()) -> #VALUE! | E28: =IF(ROUND(VALUE(SUBSTITUTE(連結実質赤字比率に係る赤字・黒字の構成分析!G$42,"▲", "-")), 2) >= 0, ABS(ROUND(VALUE(SUBSTITUTE(連結実質赤字比率に係る赤字・黒字の構成分析!G$42,"▲", "-")), 2)), NA()) -> #VALUE! | F28: =IF(ROUND(VALUE(SUBSTITUTE(連結実質赤字比率に係る赤字・黒字の構成分析!H$42,"▲", "-")), 2) < 0, ABS(ROUND(VALUE(SUBSTITUTE(連結実質赤字比率に係る赤字・黒字の構成分析!H$42,"▲", "-")), 2)), NA()) -> #VALUE! | G28: =IF(ROUND(VALUE(SUBSTITUTE(連結実質赤字比率に係る赤字・黒字の構成分析!H$42,"▲", "-")), 2) >= 0, ABS(ROUND(VALUE(SUBSTITUTE(連結実質赤字比率に係る赤字・黒字の構成分析!H$42,"▲", "-")), 2)), NA()) -> #VALUE! | H28: =IF(ROUND(VALUE(SUBSTITUTE(連結実質赤字比率に係る赤字・黒字の構成分析!I$42,"▲", "-")), 2) < 0, ABS(ROUND(VALUE(SUBSTITUTE(連結実質赤字比率に係る赤字・黒字の構成分析!I$42,"▲", "-")), 2)), NA()) -> #VALUE! | I28: =IF(ROUND(VALUE(SUBSTITUTE(連結実質赤字比率に係る赤字・黒字の構成分析!I$42,"▲", "-")), 2) >= 0, ABS(ROUND(VALUE(SUBSTITUTE(連結実質赤字比率に係る赤字・黒字の構成分析!I$42,"▲", "-")), 2)), NA()) -> #VALUE! | J28: =IF(ROUND(VALUE(SUBSTITUTE(連結実質赤字比率に係る赤字・黒字の構成分析!J$42,"▲", "-")), 2) < 0, ABS(ROUND(VALUE(SUBSTITUTE(連結実質赤字比率に係る赤字・黒字の構成分析!J$42,"▲", "-")), 2)), NA()) -> #VALUE! | K28: =IF(ROUND(VALUE(SUBSTITUTE(連結実質赤字比率に係る赤字・黒字の構成分析!J$42,"▲", "-")), 2) >= 0, ABS(ROUND(VALUE(SUBSTITUTE(連結実質赤字比率に係る赤字・黒字の構成分析!J$42,"▲", "-")), 2)), NA()) -> #VALUE!
A29: =IF(連結実質赤字比率に係る赤字・黒字の構成分析!C$41="",NA(),連結実質赤字比率に係る赤字・黒字の構成分析!C$41) -> #N/A | B29: =IF(ROUND(VALUE(SUBSTITUTE(連結実質赤字比率に係る赤字・黒字の構成分析!F$41,"▲", "-")), 2) < 0, ABS(ROUND(VALUE(SUBSTITUTE(連結実質赤字比率に係る赤字・黒字の構成分析!F$41,"▲", "-")), 2)), NA()) -> #VALUE! | C29: =IF(ROUND(VALUE(SUBSTITUTE(連結実質赤字比率に係る赤字・黒字の構成分析!F$41,"▲", "-")), 2) >= 0, ABS(ROUND(VALUE(SUBSTITUTE(連結実質赤字比率に係る赤字・黒字の構成分析!F$41,"▲", "-")), 2)), NA()) -> #VALUE! | D29: =IF(ROUND(VALUE(SUBSTITUTE(連結実質赤字比率に係る赤字・黒字の構成分析!G$41,"▲", "-")), 2) < 0, ABS(ROUND(VALUE(SUBSTITUTE(連結実質赤字比率に係る赤字・黒字の構成分析!G$41,"▲", "-")), 2)), NA()) -> #VALUE! | E29: =IF(ROUND(VALUE(SUBSTITUTE(連結実質赤字比率に係る赤字・黒字の構成分析!G$41,"▲", "-")), 2) >= 0, ABS(ROUND(VALUE(SUBSTITUTE(連結実質赤字比率に係る赤字・黒字の構成分析!G$41,"▲", "-")), 2)), NA()) -> #VALUE! | F29: =IF(ROUND(VALUE(SUBSTITUTE(連結実質赤字比率に係る赤字・黒字の構成分析!H$41,"▲", "-")), 2) < 0, ABS(ROUND(VALUE(SUBSTITUTE(連結実質赤字比率に係る赤字・黒字の構成分析!H$41,"▲", "-")), 2)), NA()) -> #VALUE! | G29: =IF(ROUND(VALUE(SUBSTITUTE(連結実質赤字比率に係る赤字・黒字の構成分析!H$41,"▲", "-")), 2) >= 0, ABS(ROUND(VALUE(SUBSTITUTE(連結実質赤字比率に係る赤字・黒字の構成分析!H$41,"▲", "-")), 2)), NA()) -> #VALUE! | H29: =IF(ROUND(VALUE(SUBSTITUTE(連結実質赤字比率に係る赤字・黒字の構成分析!I$41,"▲", "-")), 2) < 0, ABS(ROUND(VALUE(SUBSTITUTE(連結実質赤字比率に係る赤字・黒字の構成分析!I$41,"▲", "-")), 2)), NA()) -> #VALUE! | I29: =IF(ROUND(VALUE(SUBSTITUTE(連結実質赤字比率に係る赤字・黒字の構成分析!I$41,"▲", "-")), 2) >= 0, ABS(ROUND(VALUE(SUBSTITUTE(連結実質赤字比率に係る赤字・黒字の構成分析!I$41,"▲", "-")), 2)), NA()) -> #VALUE! | J29: =IF(ROUND(VALUE(SUBSTITUTE(連結実質赤字比率に係る赤字・黒字の構成分析!J$41,"▲", "-")), 2) < 0, ABS(ROUND(VALUE(SUBSTITUTE(連結実質赤字比率に係る赤字・黒字の構成分析!J$41,"▲", "-")), 2)), NA()) -> #VALUE! | K29: =IF(ROUND(VALUE(SUBSTITUTE(連結実質赤字比率に係る赤字・黒字の構成分析!J$41,"▲", "-")), 2) >= 0, ABS(ROUND(VALUE(SUBSTITUTE(連結実質赤字比率に係る赤字・黒字の構成分析!J$41,"▲", "-")), 2)), NA()) -> #VALUE!
A30: =IF(連結実質赤字比率に係る赤字・黒字の構成分析!C$40="",NA(),連結実質赤字比率に係る赤字・黒字の構成分析!C$40) -> 介護保険特別会計（介護サービス事業勘定） | B30: =IF(ROUND(VALUE(SUBSTITUTE(連結実質赤字比率に係る赤字・黒字の構成分析!F$40,"▲", "-")), 2) < 0, ABS(ROUND(VALUE(SUBSTITUTE(連結実質赤字比率に係る赤字・黒字の構成分析!F$40,"▲", "-")), 2)), NA()) -> #N/A | C30: =IF(ROUND(VALUE(SUBSTITUTE(連結実質赤字比率に係る赤字・黒字の構成分析!F$40,"▲", "-")), 2) >= 0, ABS(ROUND(VALUE(SUBSTITUTE(連結実質赤字比率に係る赤字・黒字の構成分析!F$40,"▲", "-")), 2)), NA()) -> 0 | D30: =IF(ROUND(VALUE(SUBSTITUTE(連結実質赤字比率に係る赤字・黒字の構成分析!G$40,"▲", "-")), 2) < 0, ABS(ROUND(VALUE(SUBSTITUTE(連結実質赤字比率に係る赤字・黒字の構成分析!G$40,"▲", "-")), 2)), NA()) -> #N/A | E30: =IF(ROUND(VALUE(SUBSTITUTE(連結実質赤字比率に係る赤字・黒字の構成分析!G$40,"▲", "-")), 2) >= 0, ABS(ROUND(VALUE(SUBSTITUTE(連結実質赤字比率に係る赤字・黒字の構成分析!G$40,"▲", "-")), 2)), NA()) -> 0.05 | F30: =IF(ROUND(VALUE(SUBSTITUTE(連結実質赤字比率に係る赤字・黒字の構成分析!H$40,"▲", "-")), 2) < 0, ABS(ROUND(VALUE(SUBSTITUTE(連結実質赤字比率に係る赤字・黒字の構成分析!H$40,"▲", "-")), 2)), NA()) -> #N/A | G30: =IF(ROUND(VALUE(SUBSTITUTE(連結実質赤字比率に係る赤字・黒字の構成分析!H$40,"▲", "-")), 2) >= 0, ABS(ROUND(VALUE(SUBSTITUTE(連結実質赤字比率に係る赤字・黒字の構成分析!H$40,"▲", "-")), 2)), NA()) -> 0.01 | H30: =IF(ROUND(VALUE(SUBSTITUTE(連結実質赤字比率に係る赤字・黒字の構成分析!I$40,"▲", "-")), 2) < 0, ABS(ROUND(VALUE(SUBSTITUTE(連結実質赤字比率に係る赤字・黒字の構成分析!I$40,"▲", "-")), 2)), NA()) -> #N/A | I30: =IF(ROUND(VALUE(SUBSTITUTE(連結実質赤字比率に係る赤字・黒字の構成分析!I$40,"▲", "-")), 2) >= 0, ABS(ROUND(VALUE(SUBSTITUTE(連結実質赤字比率に係る赤字・黒字の構成分析!I$40,"▲", "-")), 2)), NA()) -> 0.02 | J30: =IF(ROUND(VALUE(SUBSTITUTE(連結実質赤字比率に係る赤字・黒字の構成分析!J$40,"▲", "-")), 2) < 0, ABS(ROUND(VALUE(SUBSTITUTE(連結実質赤字比率に係る赤字・黒字の構成分析!J$40,"▲", "-")), 2)), NA()) -> #N/A | K30: =IF(ROUND(VALUE(SUBSTITUTE(連結実質赤字比率に係る赤字・黒字の構成分析!J$40,"▲", "-")), 2) >= 0, ABS(ROUND(VALUE(SUBSTITUTE(連結実質赤字比率に係る赤字・黒字の構成分析!J$40,"▲", "-")), 2)), NA()) -> 0
A31: =IF(連結実質赤字比率に係る赤字・黒字の構成分析!C$39="",NA(),連結実質赤字比率に係る赤字・黒字の構成分析!C$39) -> 後期高齢者医療特別会計 | B31: =IF(ROUND(VALUE(SUBSTITUTE(連結実質赤字比率に係る赤字・黒字の構成分析!F$39,"▲", "-")), 2) < 0, ABS(ROUND(VALUE(SUBSTITUTE(連結実質赤字比率に係る赤字・黒字の構成分析!F$39,"▲", "-")), 2)), NA()) -> #N/A | C31: =IF(ROUND(VALUE(SUBSTITUTE(連結実質赤字比率に係る赤字・黒字の構成分析!F$39,"▲", "-")), 2) >= 0, ABS(ROUND(VALUE(SUBSTITUTE(連結実質赤字比率に係る赤字・黒字の構成分析!F$39,"▲", "-")), 2)), NA()) -> 0.13 | D31: =IF(ROUND(VALUE(SUBSTITUTE(連結実質赤字比率に係る赤字・黒字の構成分析!G$39,"▲", "-")), 2) < 0, ABS(ROUND(VALUE(SUBSTITUTE(連結実質赤字比率に係る赤字・黒字の構成分析!G$39,"▲", "-")), 2)), NA()) -> #N/A | E31: =IF(ROUND(VALUE(SUBSTITUTE(連結実質赤字比率に係る赤字・黒字の構成分析!G$39,"▲", "-")), 2) >= 0, ABS(ROUND(VALUE(SUBSTITUTE(連結実質赤字比率に係る赤字・黒字の構成分析!G$39,"▲", "-")), 2)), NA()) -> 0.12 | F31: =IF(ROUND(VALUE(SUBSTITUTE(連結実質赤字比率に係る赤字・黒字の構成分析!H$39,"▲", "-")), 2) < 0, ABS(ROUND(VALUE(SUBSTITUTE(連結実質赤字比率に係る赤字・黒字の構成分析!H$39,"▲", "-")), 2)), NA()) -> #N/A | G31: =IF(ROUND(VALUE(SUBSTITUTE(連結実質赤字比率に係る赤字・黒字の構成分析!H$39,"▲", "-")), 2) >= 0, ABS(ROUND(VALUE(SUBSTITUTE(連結実質赤字比率に係る赤字・黒字の構成分析!H$39,"▲", "-")), 2)), NA()) -> 0.16 | H31: =IF(ROUND(VALUE(SUBSTITUTE(連結実質赤字比率に係る赤字・黒字の構成分析!I$39,"▲", "-")), 2) < 0, ABS(ROUND(VALUE(SUBSTITUTE(連結実質赤字比率に係る赤字・黒字の構成分析!I$39,"▲", "-")), 2)), NA()) -> #N/A | I31: =IF(ROUND(VALUE(SUBSTITUTE(連結実質赤字比率に係る赤字・黒字の構成分析!I$39,"▲", "-")), 2) >= 0, ABS(ROUND(VALUE(SUBSTITUTE(連結実質赤字比率に係る赤字・黒字の構成分析!I$39,"▲", "-")), 2)), NA()) -> 0.19 | J31: =IF(ROUND(VALUE(SUBSTITUTE(連結実質赤字比率に係る赤字・黒字の構成分析!J$39,"▲", "-")), 2) < 0, ABS(ROUND(VALUE(SUBSTITUTE(連結実質赤字比率に係る赤字・黒字の構成分析!J$39,"▲", "-")), 2)), NA()) -> #N/A | K31: =IF(ROUND(VALUE(SUBSTITUTE(連結実質赤字比率に係る赤字・黒字の構成分析!J$39,"▲", "-")), 2) >= 0, ABS(ROUND(VALUE(SUBSTITUTE(連結実質赤字比率に係る赤字・黒字の構成分析!J$39,"▲", "-")), 2)), NA()) -> 0.2
A32: =IF(連結実質赤字比率に係る赤字・黒字の構成分析!C$38="",NA(),連結実質赤字比率に係る赤字・黒字の構成分析!C$38) -> 国民健康保険特別会計 | B32: =IF(ROUND(VALUE(SUBSTITUTE(連結実質赤字比率に係る赤字・黒字の構成分析!F$38,"▲", "-")), 2) < 0, ABS(ROUND(VALUE(SUBSTITUTE(連結実質赤字比率に係る赤字・黒字の構成分析!F$38,"▲", "-")), 2)), NA()) -> #N/A | C32: =IF(ROUND(VALUE(SUBSTITUTE(連結実質赤字比率に係る赤字・黒字の構成分析!F$38,"▲", "-")), 2) >= 0, ABS(ROUND(VALUE(SUBSTITUTE(連結実質赤字比率に係る赤字・黒字の構成分析!F$38,"▲", "-")), 2)), NA()) -> 1.33 | D32: =IF(ROUND(VALUE(SUBSTITUTE(連結実質赤字比率に係る赤字・黒字の構成分析!G$38,"▲", "-")), 2) < 0, ABS(ROUND(VALUE(SUBSTITUTE(連結実質赤字比率に係る赤字・黒字の構成分析!G$38,"▲", "-")), 2)), NA()) -> #N/A | E32: =IF(ROUND(VALUE(SUBSTITUTE(連結実質赤字比率に係る赤字・黒字の構成分析!G$38,"▲", "-")), 2) >= 0, ABS(ROUND(VALUE(SUBSTITUTE(連結実質赤字比率に係る赤字・黒字の構成分析!G$38,"▲", "-")), 2)), NA()) -> 1.41 | F32: =IF(ROUND(VALUE(SUBSTITUTE(連結実質赤字比率に係る赤字・黒字の構成分析!H$38,"▲", "-")), 2) < 0, ABS(ROUND(VALUE(SUBSTITUTE(連結実質赤字比率に係る赤字・黒字の構成分析!H$38,"▲", "-")), 2)), NA()) -> #N/A | G32: =IF(ROUND(VALUE(SUBSTITUTE(連結実質赤字比率に係る赤字・黒字の構成分析!H$38,"▲", "-")), 2) >= 0, ABS(ROUND(VALUE(SUBSTITUTE(連結実質赤字比率に係る赤字・黒字の構成分析!H$38,"▲", "-")), 2)), NA()) -> 0.8 | H32: =IF(ROUND(VALUE(SUBSTITUTE(連結実質赤字比率に係る赤字・黒字の構成分析!I$38,"▲", "-")), 2) < 0, ABS(ROUND(VALUE(SUBSTITUTE(連結実質赤字比率に係る赤字・黒字の構成分析!I$38,"▲", "-")), 2)), NA()) -> #N/A | I32: =IF(ROUND(VALUE(SUBSTITUTE(連結実質赤字比率に係る赤字・黒字の構成分析!I$38,"▲", "-")), 2) >= 0, ABS(ROUND(VALUE(SUBSTITUTE(連結実質赤字比率に係る赤字・黒字の構成分析!I$38,"▲", "-")), 2)), NA()) -> 1.05 | J32: =IF(ROUND(VALUE(SUBSTITUTE(連結実質赤字比率に係る赤字・黒字の構成分析!J$38,"▲", "-")), 2) < 0, ABS(ROUND(VALUE(SUBSTITUTE(連結実質赤字比率に係る赤字・黒字の構成分析!J$38,"▲", "-")), 2)), NA()) -> #N/A | K32: =IF(ROUND(VALUE(SUBSTITUTE(連結実質赤字比率に係る赤字・黒字の構成分析!J$38,"▲", "-")), 2) >= 0, ABS(ROUND(VALUE(SUBSTITUTE(連結実質赤字比率に係る赤字・黒字の構成分析!J$38,"▲", "-")), 2)), NA()) -> 0.78
A33: =IF(連結実質赤字比率に係る赤字・黒字の構成分析!C$37="",NA(),連結実質赤字比率に係る赤字・黒字の構成分析!C$37) -> 介護保険特別会計（保険事業勘定） | B33: =IF(ROUND(VALUE(SUBSTITUTE(連結実質赤字比率に係る赤字・黒字の構成分析!F$37,"▲", "-")), 2) < 0, ABS(ROUND(VALUE(SUBSTITUTE(連結実質赤字比率に係る赤字・黒字の構成分析!F$37,"▲", "-")), 2)), NA()) -> #N/A | C33: =IF(ROUND(VALUE(SUBSTITUTE(連結実質赤字比率に係る赤字・黒字の構成分析!F$37,"▲", "-")), 2) >= 0, ABS(ROUND(VALUE(SUBSTITUTE(連結実質赤字比率に係る赤字・黒字の構成分析!F$37,"▲", "-")), 2)), NA()) -> 3.4 | D33: =IF(ROUND(VALUE(SUBSTITUTE(連結実質赤字比率に係る赤字・黒字の構成分析!G$37,"▲", "-")), 2) < 0, ABS(ROUND(VALUE(SUBSTITUTE(連結実質赤字比率に係る赤字・黒字の構成分析!G$37,"▲", "-")), 2)), NA()) -> #N/A | E33: =IF(ROUND(VALUE(SUBSTITUTE(連結実質赤字比率に係る赤字・黒字の構成分析!G$37,"▲", "-")), 2) >= 0, ABS(ROUND(VALUE(SUBSTITUTE(連結実質赤字比率に係る赤字・黒字の構成分析!G$37,"▲", "-")), 2)), NA()) -> 2.56 | F33: =IF(ROUND(VALUE(SUBSTITUTE(連結実質赤字比率に係る赤字・黒字の構成分析!H$37,"▲", "-")), 2) < 0, ABS(ROUND(VALUE(SUBSTITUTE(連結実質赤字比率に係る赤字・黒字の構成分析!H$37,"▲", "-")), 2)), NA()) -> #N/A | G33: =IF(ROUND(VALUE(SUBSTITUTE(連結実質赤字比率に係る赤字・黒字の構成分析!H$37,"▲", "-")), 2) >= 0, ABS(ROUND(VALUE(SUBSTITUTE(連結実質赤字比率に係る赤字・黒字の構成分析!H$37,"▲", "-")), 2)), NA()) -> 2.45 | H33: =IF(ROUND(VALUE(SUBSTITUTE(連結実質赤字比率に係る赤字・黒字の構成分析!I$37,"▲", "-")), 2) < 0, ABS(ROUND(VALUE(SUBSTITUTE(連結実質赤字比率に係る赤字・黒字の構成分析!I$37,"▲", "-")), 2)), NA()) -> #N/A | I33: =IF(ROUND(VALUE(SUBSTITUTE(連結実質赤字比率に係る赤字・黒字の構成分析!I$37,"▲", "-")), 2) >= 0, ABS(ROUND(VALUE(SUBSTITUTE(連結実質赤字比率に係る赤字・黒字の構成分析!I$37,"▲", "-")), 2)), NA()) -> 3.19 | J33: =IF(ROUND(VALUE(SUBSTITUTE(連結実質赤字比率に係る赤字・黒字の構成分析!J$37,"▲", "-")), 2) < 0, ABS(ROUND(VALUE(SUBSTITUTE(連結実質赤字比率に係る赤字・黒字の構成分析!J$37,"▲", "-")), 2)), NA()) -> #N/A | K33: =IF(ROUND(VALUE(SUBSTITUTE(連結実質赤字比率に係る赤字・黒字の構成分析!J$37,"▲", "-")), 2) >= 0, ABS(ROUND(VALUE(SUBSTITUTE(連結実質赤字比率に係る赤字・黒字の構成分析!J$37,"▲", "-")), 2)), NA()) -> 1.78
A34: =IF(連結実質赤字比率に係る赤字・黒字の構成分析!C$36="",NA(),連結実質赤字比率に係る赤字・黒字の構成分析!C$36) -> 下水道事業会計 | B34: =IF(ROUND(VALUE(SUBSTITUTE(連結実質赤字比率に係る赤字・黒字の構成分析!F$36,"▲", "-")), 2) < 0, ABS(ROUND(VALUE(SUBSTITUTE(連結実質赤字比率に係る赤字・黒字の構成分析!F$36,"▲", "-")), 2)), NA()) -> #N/A | C34: =IF(ROUND(VALUE(SUBSTITUTE(連結実質赤字比率に係る赤字・黒字の構成分析!F$36,"▲", "-")), 2) >= 0, ABS(ROUND(VALUE(SUBSTITUTE(連結実質赤字比率に係る赤字・黒字の構成分析!F$36,"▲", "-")), 2)), NA()) -> 1.85 | D34: =IF(ROUND(VALUE(SUBSTITUTE(連結実質赤字比率に係る赤字・黒字の構成分析!G$36,"▲", "-")), 2) < 0, ABS(ROUND(VALUE(SUBSTITUTE(連結実質赤字比率に係る赤字・黒字の構成分析!G$36,"▲", "-")), 2)), NA()) -> #N/A | E34: =IF(ROUND(VALUE(SUBSTITUTE(連結実質赤字比率に係る赤字・黒字の構成分析!G$36,"▲", "-")), 2) >= 0, ABS(ROUND(VALUE(SUBSTITUTE(連結実質赤字比率に係る赤字・黒字の構成分析!G$36,"▲", "-")), 2)), NA()) -> 2.02 | F34: =IF(ROUND(VALUE(SUBSTITUTE(連結実質赤字比率に係る赤字・黒字の構成分析!H$36,"▲", "-")), 2) < 0, ABS(ROUND(VALUE(SUBSTITUTE(連結実質赤字比率に係る赤字・黒字の構成分析!H$36,"▲", "-")), 2)), NA()) -> #N/A | G34: =IF(ROUND(VALUE(SUBSTITUTE(連結実質赤字比率に係る赤字・黒字の構成分析!H$36,"▲", "-")), 2) >= 0, ABS(ROUND(VALUE(SUBSTITUTE(連結実質赤字比率に係る赤字・黒字の構成分析!H$36,"▲", "-")), 2)), NA()) -> 2.23 | H34: =IF(ROUND(VALUE(SUBSTITUTE(連結実質赤字比率に係る赤字・黒字の構成分析!I$36,"▲", "-")), 2) < 0, ABS(ROUND(VALUE(SUBSTITUTE(連結実質赤字比率に係る赤字・黒字の構成分析!I$36,"▲", "-")), 2)), NA()) -> #N/A | I34: =IF(ROUND(VALUE(SUBSTITUTE(連結実質赤字比率に係る赤字・黒字の構成分析!I$36,"▲", "-")), 2) >= 0, ABS(ROUND(VALUE(SUBSTITUTE(連結実質赤字比率に係る赤字・黒字の構成分析!I$36,"▲", "-")), 2)), NA()) -> 2.52 | J34: =IF(ROUND(VALUE(SUBSTITUTE(連結実質赤字比率に係る赤字・黒字の構成分析!J$36,"▲", "-")), 2) < 0, ABS(ROUND(VALUE(SUBSTITUTE(連結実質赤字比率に係る赤字・黒字の構成分析!J$36,"▲", "-")), 2)), NA()) -> #N/A | K34: =IF(ROUND(VALUE(SUBSTITUTE(連結実質赤字比率に係る赤字・黒字の構成分析!J$36,"▲", "-")), 2) >= 0, ABS(ROUND(VALUE(SUBSTITUTE(連結実質赤字比率に係る赤字・黒字の構成分析!J$36,"▲", "-")), 2)), NA()) -> 3.33
A35: =IF(連結実質赤字比率に係る赤字・黒字の構成分析!C$35="",NA(),連結実質赤字比率に係る赤字・黒字の構成分析!C$35) -> 一般会計 | B35: =IF(ROUND(VALUE(SUBSTITUTE(連結実質赤字比率に係る赤字・黒字の構成分析!F$35,"▲", "-")), 2) < 0, ABS(ROUND(VALUE(SUBSTITUTE(連結実質赤字比率に係る赤字・黒字の構成分析!F$35,"▲", "-")), 2)), NA()) -> #N/A | C35: =IF(ROUND(VALUE(SUBSTITUTE(連結実質赤字比率に係る赤字・黒字の構成分析!F$35,"▲", "-")), 2) >= 0, ABS(ROUND(VALUE(SUBSTITUTE(連結実質赤字比率に係る赤字・黒字の構成分析!F$35,"▲", "-")), 2)), NA()) -> 5.7 | D35: =IF(ROUND(VALUE(SUBSTITUTE(連結実質赤字比率に係る赤字・黒字の構成分析!G$35,"▲", "-")), 2) < 0, ABS(ROUND(VALUE(SUBSTITUTE(連結実質赤字比率に係る赤字・黒字の構成分析!G$35,"▲", "-")), 2)), NA()) -> #N/A | E35: =IF(ROUND(VALUE(SUBSTITUTE(連結実質赤字比率に係る赤字・黒字の構成分析!G$35,"▲", "-")), 2) >= 0, ABS(ROUND(VALUE(SUBSTITUTE(連結実質赤字比率に係る赤字・黒字の構成分析!G$35,"▲", "-")), 2)), NA()) -> 2.98 | F35: =IF(ROUND(VALUE(SUBSTITUTE(連結実質赤字比率に係る赤字・黒字の構成分析!H$35,"▲", "-")), 2) < 0, ABS(ROUND(VALUE(SUBSTITUTE(連結実質赤字比率に係る赤字・黒字の構成分析!H$35,"▲", "-")), 2)), NA()) -> #N/A | G35: =IF(ROUND(VALUE(SUBSTITUTE(連結実質赤字比率に係る赤字・黒字の構成分析!H$35,"▲", "-")), 2) >= 0, ABS(ROUND(VALUE(SUBSTITUTE(連結実質赤字比率に係る赤字・黒字の構成分析!H$35,"▲", "-")), 2)), NA()) -> 6.05 | H35: =IF(ROUND(VALUE(SUBSTITUTE(連結実質赤字比率に係る赤字・黒字の構成分析!I$35,"▲", "-")), 2) < 0, ABS(ROUND(VALUE(SUBSTITUTE(連結実質赤字比率に係る赤字・黒字の構成分析!I$35,"▲", "-")), 2)), NA()) -> #N/A | I35: =IF(ROUND(VALUE(SUBSTITUTE(連結実質赤字比率に係る赤字・黒字の構成分析!I$35,"▲", "-")), 2) >= 0, ABS(ROUND(VALUE(SUBSTITUTE(連結実質赤字比率に係る赤字・黒字の構成分析!I$35,"▲", "-")), 2)), NA()) -> 3.86 | J35: =IF(ROUND(VALUE(SUBSTITUTE(連結実質赤字比率に係る赤字・黒字の構成分析!J$35,"▲", "-")), 2) < 0, ABS(ROUND(VALUE(SUBSTITUTE(連結実質赤字比率に係る赤字・黒字の構成分析!J$35,"▲", "-")), 2)), NA()) -> #N/A | K35: =IF(ROUND(VALUE(SUBSTITUTE(連結実質赤字比率に係る赤字・黒字の構成分析!J$35,"▲", "-")), 2) >= 0, ABS(ROUND(VALUE(SUBSTITUTE(連結実質赤字比率に係る赤字・黒字の構成分析!J$35,"▲", "-")), 2)), NA()) -> 4.35
A36: =IF(連結実質赤字比率に係る赤字・黒字の構成分析!C$34="",NA(),連結実質赤字比率に係る赤字・黒字の構成分析!C$34) -> 水道事業会計 | B36: =IF(ROUND(VALUE(SUBSTITUTE(連結実質赤字比率に係る赤字・黒字の構成分析!F$34,"▲", "-")), 2) < 0, ABS(ROUND(VALUE(SUBSTITUTE(連結実質赤字比率に係る赤字・黒字の構成分析!F$34,"▲", "-")), 2)), NA()) -> #N/A | C36: =IF(ROUND(VALUE(SUBSTITUTE(連結実質赤字比率に係る赤字・黒字の構成分析!F$34,"▲", "-")), 2) >= 0, ABS(ROUND(VALUE(SUBSTITUTE(連結実質赤字比率に係る赤字・黒字の構成分析!F$34,"▲", "-")), 2)), NA()) -> 9.08 | D36: =IF(ROUND(VALUE(SUBSTITUTE(連結実質赤字比率に係る赤字・黒字の構成分析!G$34,"▲", "-")), 2) < 0, ABS(ROUND(VALUE(SUBSTITUTE(連結実質赤字比率に係る赤字・黒字の構成分析!G$34,"▲", "-")), 2)), NA()) -> #N/A | E36: =IF(ROUND(VALUE(SUBSTITUTE(連結実質赤字比率に係る赤字・黒字の構成分析!G$34,"▲", "-")), 2) >= 0, ABS(ROUND(VALUE(SUBSTITUTE(連結実質赤字比率に係る赤字・黒字の構成分析!G$34,"▲", "-")), 2)), NA()) -> 9.91 | F36: =IF(ROUND(VALUE(SUBSTITUTE(連結実質赤字比率に係る赤字・黒字の構成分析!H$34,"▲", "-")), 2) < 0, ABS(ROUND(VALUE(SUBSTITUTE(連結実質赤字比率に係る赤字・黒字の構成分析!H$34,"▲", "-")), 2)), NA()) -> #N/A | G36: =IF(ROUND(VALUE(SUBSTITUTE(連結実質赤字比率に係る赤字・黒字の構成分析!H$34,"▲", "-")), 2) >= 0, ABS(ROUND(VALUE(SUBSTITUTE(連結実質赤字比率に係る赤字・黒字の構成分析!H$34,"▲", "-")), 2)), NA()) -> 9.81 | H36: =IF(ROUND(VALUE(SUBSTITUTE(連結実質赤字比率に係る赤字・黒字の構成分析!I$34,"▲", "-")), 2) < 0, ABS(ROUND(VALUE(SUBSTITUTE(連結実質赤字比率に係る赤字・黒字の構成分析!I$34,"▲", "-")), 2)), NA()) -> #N/A | I36: =IF(ROUND(VALUE(SUBSTITUTE(連結実質赤字比率に係る赤字・黒字の構成分析!I$34,"▲", "-")), 2) >= 0, ABS(ROUND(VALUE(SUBSTITUTE(連結実質赤字比率に係る赤字・黒字の構成分析!I$34,"▲", "-")), 2)), NA()) -> 10.35 | J36: =IF(ROUND(VALUE(SUBSTITUTE(連結実質赤字比率に係る赤字・黒字の構成分析!J$34,"▲", "-")), 2) < 0, ABS(ROUND(VALUE(SUBSTITUTE(連結実質赤字比率に係る赤字・黒字の構成分析!J$34,"▲", "-")), 2)), NA()) -> #N/A | K36: =IF(ROUND(VALUE(SUBSTITUTE(連結実質赤字比率に係る赤字・黒字の構成分析!J$34,"▲", "-")), 2) >= 0, ABS(ROUND(VALUE(SUBSTITUTE(連結実質赤字比率に係る赤字・黒字の構成分析!J$34,"▲", "-")), 2)), NA()) -> 10.19
A39: 実質公債費比率（分子）の構造
B40: ='実質公債費比率（分子）の構造'!K$44 -> R02 | E40: ='実質公債費比率（分子）の構造'!L$44 -> R03 | H40: ='実質公債費比率（分子）の構造'!M$44 -> R04 | K40: ='実質公債費比率（分子）の構造'!N$44 -> R05 | N40: ='実質公債費比率（分子）の構造'!O$44 -> R06
B41: 元利償還金等 | D41: 算入公債費等 | E41: 元利償還金等 | G41: 算入公債費等 | H41: 元利償還金等 | J41: 算入公債費等 | K41: 元利償還金等 | M41: 算入公債費等 | N41: 元利償還金等 | P41: 算入公債費等
A42: 算入公債費等 | D42: ='実質公債費比率（分子）の構造'!K$52 -> 637 | G42: ='実質公債費比率（分子）の構造'!L$52 -> 649 | J42: ='実質公債費比率（分子）の構造'!M$52 -> 632 | M42: ='実質公債費比率（分子）の構造'!N$52 -> 639 | P42: ='実質公債費比率（分子）の構造'!O$52 -> 617
A43: 一時借入金の利子 | B43: ='実質公債費比率（分子）の構造'!K$51 -> - | E43: ='実質公債費比率（分子）の構造'!L$51 -> - | H43: ='実質公債費比率（分子）の構造'!M$51 -> 0 | K43: ='実質公債費比率（分子）の構造'!N$51 -> 0 | N43: ='実質公債費比率（分子）の構造'!O$51 -> -
A44: 債務負担行為に基づく支出額 | B44: ='実質公債費比率（分子）の構造'!K$50 -> 9 | E44: ='実質公債費比率（分子）の構造'!L$50 -> 9 | H44: ='実質公債費比率（分子）の構造'!M$50 -> - | K44: ='実質公債費比率（分子）の構造'!N$50 -> - | N44: ='実質公債費比率（分子）の構造'!O$50 -> -
A45: 組合等が起こした地方債の元利償還金に対する負担金等 | B45: ='実質公債費比率（分子）の構造'!K$49 -> 58 | E45: ='実質公債費比率（分子）の構造'!L$49 -> 68 | H45: ='実質公債費比率（分子）の構造'!M$49 -> 68 | K45: ='実質公債費比率（分子）の構造'!N$49 -> 60 | N45: ='実質公債費比率（分子）の構造'!O$49 -> 64
A46: 公営企業債の元利償還金に対する繰入金 | B46: ='実質公債費比率（分子）の構造'!K$48 -> 383 | E46: ='実質公債費比率（分子）の構造'!L$48 -> 350 | H46: ='実質公債費比率（分子）の構造'!M$48 -> 341 | K46: ='実質公債費比率（分子）の構造'!N$48 -> 328 | N46: ='実質公債費比率（分子）の構造'!O$48 -> 317
A47: 満期一括償還地方債に係る年度割相当額 | B47: ='実質公債費比率（分子）の構造'!K$47 -> - | E47: ='実質公債費比率（分子）の構造'!L$47 -> - | H47: ='実質公債費比率（分子）の構造'!M$47 -> - | K47: ='実質公債費比率（分子）の構造'!N$47 -> - | N47: ='実質公債費比率（分子）の構造'!O$47 -> -
...
